BEGIN:VCALENDAR
BEGIN:VEVENT
SUMMARY:Robert Vega / Neta Raanan / Luke Marantz / Thorbjorn Stefansson [n
 ycnoise]
DTSTART:20251106T003000Z
DTEND:20251106T013000Z
UID:9ec8e902-adee-41f8-a485-025fdbc219cc
CREATED:20260425T204015Z
DESCRIPTION:7:30pm tix + 9pm tix
LOCATION:close up jazz (154 Orchard St\, New York\, NY 10002\, United Stat
 es)
END:VEVENT
END:VCALENDAR
