BEGIN:VCALENDAR
BEGIN:VEVENT
SUMMARY:Portals (Caroline Davis\, Julian Shore\, Kanoa Mendenhall\, Timoth
 y Angulo) [nycnoise]
DTSTART:20251121T003000Z
DTEND:20251121T013000Z
UID:bae09f06-f871-4c7c-a40b-27129ff41f24
CREATED:20260425T204016Z
DESCRIPTION:7:30pm tix + 9pm tix
LOCATION:close up jazz (154 Orchard St\, New York\, NY 10002\, United Stat
 es)
END:VEVENT
END:VCALENDAR
