BEGIN:VCALENDAR
BEGIN:VEVENT
SUMMARY:Ingrid Laubrock (w/ DoYeon Kim\, Brandon Seabrook\, Shawn Lovato\,
  Tom Rainey) [nycnoise]
DTSTART:20251202T003000Z
DTEND:20251202T013000Z
UID:67f09764-3f81-4b04-a634-4bc4a9ca52be
CREATED:20260425T184014Z
DESCRIPTION:7:30pm tix + 9pm tix
LOCATION:close up jazz (154 Orchard St\, New York\, NY 10002\, United Stat
 es)
END:VEVENT
END:VCALENDAR
