BEGIN:VCALENDAR
BEGIN:VEVENT
SUMMARY:Dion Lunadon\, Chimers\, Gerard Cosloy [nycnoise]
DTSTART:20251120T000000Z
DTEND:20251120T010000Z
UID:44d1ce9f-4d89-4b6d-9811-ec1b1c333b12
CREATED:20260425T203852Z
DESCRIPTION:
LOCATION:union pool (484 union ave\, brooklyn)
END:VEVENT
END:VCALENDAR
