BEGIN:VCALENDAR
BEGIN:VEVENT
SUMMARY:Bellcave s3 ep5: Lemuel Marc & Samantha Kochis\, Ivan Chen\, Conne
 r Simmons & Leni Kreienberg [nycnoise]
DTSTART:20251122T000000Z
DTEND:20251122T010000Z
UID:af9eb8a1-4715-4fbb-88ea-fc0967787851
CREATED:20260425T203803Z
DESCRIPTION:
LOCATION:bellcave
END:VEVENT
END:VCALENDAR
