BEGIN:VCALENDAR
BEGIN:VEVENT
SUMMARY:Prog for Palestine: Sarmat\, Breath of the Moor\, Fall of the Alba
 tross\, Ghostbound [nycnoise]
DTSTART:20251117T010000Z
DTEND:20251117T020000Z
UID:63ff4699-9502-4bbf-bb37-8c8ccf5cb0de
CREATED:20260425T203932Z
DESCRIPTION:🇵🇸 "all proceeds to benefit humanitarian aid in Gaza"
LOCATION:broadway (1272 broadway\, brooklyn)
END:VEVENT
END:VCALENDAR
