BEGIN:VCALENDAR
BEGIN:VEVENT
SUMMARY:Devon Church (Record Release)\, Tony Vaz\, Office Culture [nycnois
 e]
DTSTART:20251108T003000Z
DTEND:20251108T013000Z
UID:5d364751-222e-4d84-870b-06651e86db55
CREATED:20260425T203656Z
DESCRIPTION:
LOCATION:cassette (68-38 forest ave bsmt\, ridgewood)
END:VEVENT
END:VCALENDAR
