BEGIN:VCALENDAR
BEGIN:VEVENT
SUMMARY:Aesop's Sound Fables: Strange Animations [nycnoise]
DTSTART:20251120T003000Z
DTEND:20251120T013000Z
UID:0f47750e-ea9a-476e-b654-ccfe6a4f17a1
CREATED:20260425T204013Z
DESCRIPTION:
LOCATION:cassette (68-38 forest ave bsmt\, ridgewood)
END:VEVENT
END:VCALENDAR
