BEGIN:VCALENDAR
BEGIN:VEVENT
SUMMARY:Veil Is Thin Experimental: Zachary Paul\, Sean Brennan\, Anna John
 son\, D. Jean-Baptiste x Sam Kurzydlo [nycnoise]
DTSTART:20251102T233000Z
DTEND:20251103T003000Z
UID:37a157ea-749c-4544-8238-84e4910bf056
CREATED:20260425T203831Z
DESCRIPTION:6pm doors
LOCATION:dada (6047 Myrtle Ave\, Queens\, NY 11385)
END:VEVENT
END:VCALENDAR
