BEGIN:VCALENDAR
BEGIN:VEVENT
SUMMARY:ambient / art installation: Eric Gundel & Florencia Alvarado: Coco
 on [nycnoise]
DTSTART:20251122T230000Z
DTEND:20251123T000000Z
UID:2d7578a8-b50a-490b-bcc1-76e20bff7436
CREATED:20260425T203655Z
DESCRIPTION:curated by Annie Garlid\, lineup asap
LOCATION:dada (6047 Myrtle Ave\, Queens\, NY 11385)
END:VEVENT
END:VCALENDAR
