BEGIN:VCALENDAR
BEGIN:VEVENT
SUMMARY:Field Replaceable Units (Mike Videopunk)\, JV.EXE (Jake Vest) [nyc
 noise]
DTSTART:20251124T010000Z
DTEND:20251124T020000Z
UID:15b3a46c-5142-405a-9bdf-c8ee466f734c
CREATED:20260425T203931Z
DESCRIPTION:
LOCATION:dada (6047 Myrtle Ave\, Queens\, NY 11385)
END:VEVENT
END:VCALENDAR
