BEGIN:VCALENDAR
BEGIN:VEVENT
SUMMARY:Field Replaceable Units (Mike Videopunk)\, Cyber Imp [nycnoise]
DTSTART:20251201T000000Z
DTEND:20251201T010000Z
UID:d43e52bb-5ed5-417b-a528-c0d3b08e8aad
CREATED:20260425T204013Z
DESCRIPTION:
LOCATION:dada (6047 Myrtle Ave\, Queens\, NY 11385)
END:VEVENT
END:VCALENDAR
