BEGIN:VCALENDAR
BEGIN:VEVENT
SUMMARY:Carol Szymanski: 'to forget and begin again' (ft. Sam Jones\, Arda
  Cabaoğlu Virtanen\, Fay Victor\, & more) [nycnoise]
DTSTART:20251105T003000Z
DTEND:20251105T013000Z
UID:8e2f328c-27fe-4117-a8f0-82d65b470753
CREATED:20260425T203829Z
DESCRIPTION:7pm doors
LOCATION:e-flux (172 classon ave\, brooklyn)
END:VEVENT
END:VCALENDAR
