BEGIN:VCALENDAR
BEGIN:VEVENT
SUMMARY:FREAK WORLD 3D\, Night #1/2: Angela Sawyer\, Art Cows\, Zoots Hous
 ton\, Sh!tomato\, Tethers\, Human Adult Band\, Bong Haus\, Matt Robidoux\,
  Melting Regular\, Comforters\, Blemish\, Nxcx\, iD-Sus\, Exit Seraphim\, 
 DJ Mike Videopunk [nycnoise]
DTSTART:20251109T000000Z
DTEND:20251109T010000Z
UID:500db117-770c-4c0f-a031-7999156c7e4e
CREATED:20260425T203701Z
DESCRIPTION:🇵🇸 PACBI (skinny apartment legacy foundation [lol])\; $5
 0 for both nights\; my guess is most live stuff will be 7pm-10pm since mik
 e starts DJing upstairs @ 10pm but i'll check
LOCATION:hart bar (538 hart st.\, brooklyn)
END:VEVENT
END:VCALENDAR
