BEGIN:VCALENDAR
BEGIN:VEVENT
SUMMARY:Funny Band\, Cal Fish\, Austyn Wohlers [nycnoise]
DTSTART:20251108T010000Z
DTEND:20251108T020000Z
UID:43b82044-3902-4d50-a4bc-7630e8b5ee62
CREATED:20260425T203630Z
DESCRIPTION:
LOCATION:intercomm (584 Woodward Ave\, Ridgewood\, NY 11385)
END:VEVENT
END:VCALENDAR
