BEGIN:VCALENDAR
BEGIN:VEVENT
SUMMARY:Electro Duos: Circular Errands (Eric Biondo & the Zone)\, Takses\,
  HJ 3000 [nycnoise]
DTSTART:20251107T000000Z
DTEND:20251107T010000Z
UID:1e46fb42-c18c-4221-8749-5070df48493c
CREATED:20260425T203831Z
DESCRIPTION:
LOCATION:mama tried (787 3rd ave\, brooklyn)
END:VEVENT
END:VCALENDAR
