BEGIN:VCALENDAR
BEGIN:VEVENT
SUMMARY:Legion of Strategic Deception\, Katie Battistoni\, Alex Hampshire 
 [nycnoise]
DTSTART:20251119T010000Z
DTEND:20251119T020000Z
UID:b3626199-f5ce-4f3c-9c16-0d0fdcbbfd59
CREATED:20260425T203829Z
DESCRIPTION:
LOCATION:mama tried (787 3rd ave\, brooklyn)
END:VEVENT
END:VCALENDAR
