BEGIN:VCALENDAR
BEGIN:VEVENT
SUMMARY:Marihito will Present Sounds [nycnoise]
DTSTART:20251107T000000Z
DTEND:20251107T010000Z
UID:43a1e08e-191f-4bbe-b457-9c1ab414a386
CREATED:20260425T203701Z
DESCRIPTION:🌀 notaflof work trade
LOCATION:light & sound design
END:VEVENT
END:VCALENDAR
