BEGIN:VCALENDAR
BEGIN:VEVENT
SUMMARY:Biologix\, R.A. Jones\, Weird Shit U.S.A.+ DJs Gunnar & friends [n
 ycnoise]
DTSTART:20251108T000000Z
DTEND:20251108T010000Z
UID:e3ab7be9-7891-483b-a111-c0fadb19ec34
CREATED:20260425T203702Z
DESCRIPTION:🌀 notaflof work trade
LOCATION:light & sound design
END:VEVENT
END:VCALENDAR
