BEGIN:VCALENDAR
BEGIN:VEVENT
SUMMARY:endless spill: 7038634357\, Axine M\, Tega\, aka-Sol b2b Fuge [nyc
 noise]
DTSTART:20251109T004500Z
DTEND:20251109T014500Z
UID:313ada6e-7623-41f8-8235-57df12b8735d
CREATED:20260425T203702Z
DESCRIPTION:🌀 notaflof work trade\, 7pm doors
LOCATION:light & sound design
END:VEVENT
END:VCALENDAR
