BEGIN:VCALENDAR
BEGIN:VEVENT
SUMMARY:dance practice (a dancefloor meditation): Star Mitchell\, Kiss Kis
 s [nycnoise]
DTSTART:20251113T010000Z
DTEND:20251113T020000Z
UID:04ba57fd-9da2-4944-b384-37bf4c0e43d8
CREATED:20260425T203805Z
DESCRIPTION:7:30pm doors\, "begins with a group instruction on mindful mov
 ement &amp\; body awareness"
LOCATION:light & sound design
END:VEVENT
END:VCALENDAR
