BEGIN:VCALENDAR
BEGIN:VEVENT
SUMMARY:Dr. S+M\, Molto Ohm\, DJ Olivia [nycnoise]
DTSTART:20251120T000000Z
DTEND:20251120T010000Z
UID:a6ba6804-5240-42c1-91c2-e95cbd8d9c5b
CREATED:20260425T203829Z
DESCRIPTION:🌀 notaflof work trade\; Dr. S+M: Dan Rosato w/ Winnie Cheun
 g visuals\; MO: Matteo Liberatore
LOCATION:light & sound design
END:VEVENT
END:VCALENDAR
