BEGIN:VCALENDAR
BEGIN:VEVENT
SUMMARY:Movement Research AoCC Night: Melis Sena Yeşiller\, Milteri Tucke
 r Concepcion / Bombazo Dance Co\, Inc.\, Sacha Vega [nycnoise]
DTSTART:20251104T000000Z
DTEND:20251104T010000Z
UID:6ed2c07f-0eb9-4967-b4ca-c9e2a84a0395
CREATED:20260425T203631Z
DESCRIPTION:event includes auditive guidance\; curated by MR Artists of Co
 lor Council
LOCATION:movement research at judson (55 washington sq south\, manhattan)
END:VEVENT
END:VCALENDAR
