BEGIN:VCALENDAR
BEGIN:VEVENT
SUMMARY:James Corrigan’s Take Time\, Holy Wisdom LLC\, Sean Ali [nycnois
 e]
DTSTART:20251115T003000Z
DTEND:20251115T013000Z
UID:8617f542-7630-41b6-820a-46c988f25fa0
CREATED:20260425T203851Z
DESCRIPTION:
LOCATION:record shop (360 van brunt st.\, brooklyn)
END:VEVENT
END:VCALENDAR
