BEGIN:VCALENDAR
BEGIN:VEVENT
SUMMARY:Brittlestar (Album Release)\, Beak Trio\, Jinzo [nycnoise]
DTSTART:20251123T003000Z
DTEND:20251123T013000Z
UID:3dc434bd-7258-4b29-8491-1dc41c96bf78
CREATED:20260425T203853Z
DESCRIPTION:
LOCATION:record shop (360 van brunt st.\, brooklyn)
END:VEVENT
END:VCALENDAR
