BEGIN:VCALENDAR
BEGIN:VEVENT
SUMMARY:Genderfest: tricktheriddle\, Goof Goblin\, Trouble Girl\, Jesediah
 \, Zanax\, Masc.Ari\, Petyr Panic [nycnoise]
DTSTART:20251115T230000Z
DTEND:20251116T000000Z
UID:60fb9a00-fb2c-4e70-ad4a-df8591e252de
CREATED:20260425T203933Z
DESCRIPTION:
LOCATION:purgatory (675 central ave\, brooklyn)
END:VEVENT
END:VCALENDAR
