BEGIN:VCALENDAR
BEGIN:VEVENT
SUMMARY:Helado Negro [nycnoise]
DTSTART:20251119T010000Z
DTEND:20251119T020000Z
UID:58c3d36b-fc6f-4c79-8243-20730665f339
CREATED:20260425T203853Z
DESCRIPTION:
LOCATION:public records (233 butler st.\, brooklyn)
END:VEVENT
END:VCALENDAR
