BEGIN:VCALENDAR
BEGIN:VEVENT
SUMMARY:Sacred Noise Archive: Sixth Degree Sextet & Translasi (Foo Jeng & 
 jlym) perform works by Wong Foo Jeng\, George Lam\, Christopher Cerrone\, 
 Andrea Abel x Gabe Henkin [nycnoise]
DTSTART:20251101T230000Z
DTEND:20251102T000000Z
UID:17643ead-b75a-4f43-9c80-2770379c9bf9
CREATED:20260425T203657Z
DESCRIPTION:
LOCATION:mise-en_place (45 St Nicholas Ave\, New York\, NY 10026)
END:VEVENT
END:VCALENDAR
