BEGIN:VCALENDAR
BEGIN:VEVENT
SUMMARY:Jihwon Na [nycnoise]
DTSTART:20251116T230000Z
DTEND:20251117T000000Z
UID:c49afdd4-d5ae-48df-98b4-5dfc10a23923
CREATED:20260425T203852Z
DESCRIPTION:works by Kaija Saariaho\, Henri Dutilleux\, Jinhee Han (ft. Ra
 chel Zhao)\, Coleridge-Taylor Perkinson\, Giovanni Sollima\, Moon Young Ha
LOCATION:mise-en_place (45 St Nicholas Ave\, New York\, NY 10026)
END:VEVENT
END:VCALENDAR
