BEGIN:VCALENDAR
BEGIN:VEVENT
SUMMARY:Bowery Music Poetry Film: Tyler J. Borden\, Brandon Lopez\, Nick N
 euberg\, Kevin Ramsay\, & more [nycnoise]
DTSTART:20251105T003000Z
DTEND:20251105T013000Z
UID:a1afa37d-01a5-4077-8b0c-28861bb04099
CREATED:20260425T203851Z
DESCRIPTION:6:30pm doors\; poetry: Black Saturn\, Kyabell Glass\, Jerome S
 ala\, Don Yorty\; film: H. Paul Moon
LOCATION:bowery poetry club (308 bowery\, manhattan)
END:VEVENT
END:VCALENDAR
