BEGIN:VCALENDAR
BEGIN:VEVENT
SUMMARY:Luis McDougal / Rocío Sánchez / Adeline DeBella\, Anjali Shinde 
 & Nicholas Miller [nycnoise]
DTSTART:20251115T000000Z
DTEND:20251115T010000Z
UID:9d95efc0-09d0-488b-9623-acc08fdabb9e
CREATED:20260425T204014Z
DESCRIPTION:
LOCATION:brothers wash & dry laundromat (5420 nurge ave\, queens)
END:VEVENT
END:VCALENDAR
