BEGIN:VCALENDAR
BEGIN:VEVENT
SUMMARY:Marc Edwards / Caroline Morton / Stan Zenkov\, Ryan Bell\, Kris Gr
 uda / Teté Leguía / Orchid McRae [nycnoise]
DTSTART:20251119T000000Z
DTEND:20251119T010000Z
UID:8612415e-4418-4939-aba0-687059cd31d6
CREATED:20260425T203805Z
DESCRIPTION:
LOCATION:brothers wash & dry laundromat (5420 nurge ave\, queens)
END:VEVENT
END:VCALENDAR
