BEGIN:VCALENDAR
BEGIN:VEVENT
SUMMARY:Milk & Cookies: Celina Pertini\, Leftpop\, Frogtones [nycnoise]
DTSTART:20251120T000000Z
DTEND:20251120T010000Z
UID:42b2910b-7997-45b8-8ef6-4c67d71ebf35
CREATED:20260425T203849Z
DESCRIPTION:"there will be milk &amp\; cookies!"
LOCATION:brothers wash & dry laundromat (5420 nurge ave\, queens)
END:VEVENT
END:VCALENDAR
