BEGIN:VCALENDAR
BEGIN:VEVENT
SUMMARY:orchid mcrae\, Storytime\, Lulu West & Jack Herscowitz [nycnoise]
DTSTART:20251122T000000Z
DTEND:20251122T010000Z
UID:de0b5def-3a12-4664-ad5c-085d324ce02c
CREATED:20260425T203806Z
DESCRIPTION:
LOCATION:brothers wash & dry laundromat (5420 nurge ave\, queens)
END:VEVENT
END:VCALENDAR
