BEGIN:VCALENDAR
BEGIN:VEVENT
SUMMARY:Star & Stan (Kate Williams & Reed Rushes)\, Laurel Atwell\, Alex T
 atarsky\, BABAS (Funto & Tosin Omojola) [nycnoise]
DTSTART:20251106T010000Z
DTEND:20251106T020000Z
UID:0ffcac10-2694-4546-8d0f-b1f07c66f081
CREATED:20260425T203832Z
DESCRIPTION:7:30pm doors
LOCATION:stone circle at ridgewood presby (59-14 70th ave\, ridgewood)
END:VEVENT
END:VCALENDAR
