BEGIN:VCALENDAR
BEGIN:VEVENT
SUMMARY:NYMS: Chainwallet\, Latinacroft\, Celebrity Bitcrush [nycnoise]
DTSTART:20251102T000000Z
DTEND:20251102T010000Z
UID:d132b582-ee2b-425e-9198-ecb335026341
CREATED:20260425T203630Z
DESCRIPTION:
LOCATION:culture lab at plaxall (5-25 46th ave\, long island city)
END:VEVENT
END:VCALENDAR
