BEGIN:VCALENDAR
BEGIN:VEVENT
SUMMARY:Powerhouse International: claire rousay presents a little death [n
 ycnoise]
DTSTART:20251123T010000Z
DTEND:20251123T020000Z
UID:4e08e636-9915-468e-a724-cc723f850f1c
CREATED:20260425T203933Z
DESCRIPTION:
LOCATION:powerhouse arts (322 3rd Ave\, Brooklyn\, NY 11215)
END:VEVENT
END:VCALENDAR
