BEGIN:VCALENDAR
BEGIN:VEVENT
SUMMARY:Powerhouse International: Red Hot Presents TRAИƧA [nycnoise]
DTSTART:20251207T010000Z
DTEND:20251207T020000Z
UID:754b90b2-445f-44ce-8697-60b0364e4e1e
CREATED:20260425T183832Z
DESCRIPTION:ft. Ahya Simone\, Anajah\, Alison Russell\, Asher White\, Ben&
 eacute\;t\, Bloomsday\, Cole Pulice\, David Longstreth\, Eli Winter\, Kara
  Jackson\, Kathi Wilcox\, L&rsquo\;Rain\, Lynn Avery\, MIZU\, More Eaze\, 
 Ns&aacute\;mbu Za Su&eacute\;kama\, Time Wharp\, &amp\; more ??
LOCATION:powerhouse arts (322 3rd Ave\, Brooklyn\, NY 11215)
END:VEVENT
END:VCALENDAR
