BEGIN:VCALENDAR
BEGIN:VEVENT
SUMMARY:Alanza\, Nat Homer\, Metamyther\, Moon [nycnoise]
DTSTART:20251116T230000Z
DTEND:20251117T000000Z
UID:86283e8b-b32f-4602-bc4d-7446d09e917f
CREATED:20260425T203609Z
DESCRIPTION:
LOCATION:selva (1329 Willoughby Ave Suite 121\, Brooklyn\, NY 11237\, Unit
 ed States)
END:VEVENT
END:VCALENDAR
