BEGIN:VCALENDAR
BEGIN:VEVENT
SUMMARY:Midnight Psychic\, DROP HER\, Holy Wisdom\, L. L. C.\, The Knicker
 bocker5 [nycnoise]
DTSTART:20251206T000000Z
DTEND:20251206T010000Z
UID:0c3a1156-6486-4a42-a7d6-58071fe25937
CREATED:20260425T184032Z
DESCRIPTION:
LOCATION:wonderville (1186 broadway\, brooklyn)
END:VEVENT
END:VCALENDAR
