BEGIN:VCALENDAR
BEGIN:VEVENT
SUMMARY:Catalytic Festival: Craig Taborn & Miriam Parker\, Joe McPhee w/ M
 ichael Foster’s The Ghost (w/ Joey Sullivan\, John Moran)\, Fred Moten &
  Brandon Lopez [nycnoise]
DTSTART:20251216T010000Z
DTEND:20251216T020000Z
UID:34c699f5-e6fb-4a84-a905-6a72f105582f
CREATED:20260425T183831Z
DESCRIPTION:7pm/$30 doors\, LIVESTREAM
LOCATION:roulette (509 atlantic ave\, brooklyn)
END:VEVENT
END:VCALENDAR
