BEGIN:VCALENDAR
BEGIN:VEVENT
SUMMARY:$53 [nycnoise]
DTSTART:20251126T010000Z
DTEND:20251126T020000Z
UID:09d7c82a-4e53-4737-9e85-12a02761ee36
CREATED:20260425T203657Z
DESCRIPTION:A Concert to Benefit Roulette: IMPROV NIGHT ft. John Zorn\, La
 urie Anderson\, Jim Staley\, Marc Ribot\, John Medeski\, Ikue Mori\, Jorge
  Roeder\, Simon Hanes\, Brian Chase\, Kenny Wollesen\; 7pm doors
LOCATION:roulette (509 atlantic ave\, brooklyn)
END:VEVENT
END:VCALENDAR
