BEGIN:VCALENDAR
BEGIN:VEVENT
SUMMARY:Nonstop: Jossy Mitsu\, SCRAAAATCH\, Special Guest\, Tasha\, x3butt
 erfly\, Yushh\, Zenker Brothers [nycnoise]
DTSTART:20251123T050100Z
DTEND:20251123T060100Z
UID:f2e1565b-7d33-4c59-9bd1-41a13d1bce34
CREATED:20260425T204015Z
DESCRIPTION:
LOCATION:nowadays (56-06 cooper ave\, ridgewood)
END:VEVENT
END:VCALENDAR
