BEGIN:VCALENDAR
BEGIN:VEVENT
SUMMARY:Dekmantel Nonstop: Lovie\, Doudou MD\, Gabrielle Kwarteng\, Colore
 d Craig\, DJ G. b2b no service\, Sedef Adasï\, Blake Baxter\, Ogazón [ny
 cnoise]
DTSTART:20251116T030000Z
DTEND:20251116T040000Z
UID:369d332f-2651-4493-9f3d-95016a2ff203
CREATED:20260425T204014Z
DESCRIPTION:
LOCATION:nowadays (56-06 cooper ave\, ridgewood)
END:VEVENT
END:VCALENDAR
