BEGIN:VCALENDAR
BEGIN:VEVENT
SUMMARY:Dekmantel Nonstop: Lovie\, Doudou MD\, Gabrielle Kwarteng\, Colore
 d Craig\, DJ G. b2b no service\, Sedef Adasï\, Blake Baxter\, Ogazón [ny
 cnoise]
DTSTART:20251116T050100Z
DTEND:20251116T060100Z
UID:a4568e0d-03e0-45b3-bd60-cde5c88db156
CREATED:20260425T203853Z
DESCRIPTION:
LOCATION:nowadays (56-06 cooper ave\, ridgewood)
END:VEVENT
END:VCALENDAR
