BEGIN:VCALENDAR
BEGIN:VEVENT
SUMMARY:Phantasma + Beltram Bday: Joey Beltram\, 1morning\, Juno b2b Linda
  + Cosmo\, S4M23 [nycnoise]
DTSTART:20251108T023000Z
DTEND:20251108T033000Z
UID:7aa40003-515c-4066-958a-38d90882ca58
CREATED:20260425T203852Z
DESCRIPTION:
LOCATION:paragon (990 broadway\, brooklyn)
END:VEVENT
END:VCALENDAR
