BEGIN:VCALENDAR
BEGIN:VEVENT
SUMMARY:Club Stars: DJ Assault\, MikeQ\, Nymphostar\, Miss Ile\, [Slick Do
 wn] Love Higher\, sola system\, wahala.wav [nycnoise]
DTSTART:20251116T023000Z
DTEND:20251116T033000Z
UID:585be534-234f-40ee-9629-7fa37b6589c2
CREATED:20260425T203609Z
DESCRIPTION:
LOCATION:paragon (990 broadway\, brooklyn)
END:VEVENT
END:VCALENDAR
