BEGIN:VCALENDAR
BEGIN:VEVENT
SUMMARY:Club Stars: UNiiQU3\, AceMo\, flotussin\, Linapary\, coyado [nycno
 ise]
DTSTART:20251123T023000Z
DTEND:20251123T033000Z
UID:7a1c1719-ef70-4a4d-93ff-1548007c1bea
CREATED:20260425T203828Z
DESCRIPTION:
LOCATION:paragon (990 broadway\, brooklyn)
END:VEVENT
END:VCALENDAR
