BEGIN:VCALENDAR
BEGIN:VEVENT
SUMMARY:Paradiso: Kevin Saunderson b2b DJ Minx\, Dantiez\, FALSEBOI (Shybo
 i b2b Junior M) [nycnoise]
DTSTART:20251129T023000Z
DTEND:20251129T033000Z
UID:8ed983a3-5cde-4619-a363-a3fab182d27c
CREATED:20260425T204016Z
DESCRIPTION:
LOCATION:paragon (990 broadway\, brooklyn)
END:VEVENT
END:VCALENDAR
