BEGIN:VCALENDAR
BEGIN:VEVENT
SUMMARY:Phantasma: Schwefelgelb\, Sexorcist (live)\, Madness Of (WTCHCRFT 
 b2b KYRUH)\, Ana B\, DJ Miss Parker\, Matas [nycnoise]
DTSTART:20251130T023000Z
DTEND:20251130T033000Z
UID:f2ca90fc-4db6-468f-8d72-913b8170a1f7
CREATED:20260425T204013Z
DESCRIPTION:
LOCATION:paragon (990 broadway\, brooklyn)
END:VEVENT
END:VCALENDAR
